Workbook

Sheet Rental Register
A1: School Book Rental Scheme Tracker — 2026 School Year
A2: Record each book issued, payment received, condition and return details. Pale yellow cells are intended for user entry.
A3: Loan ID | B3: Pupil Name | C3: Class/Year | D3: School | E3: Town/City | F3: PPS/Student Reference | G3: Book ISBN | H3: Book Title | I3: Subject | J3: Book Type | K3: Book Condition at Issue | L3: Issue Date | M3: Expected Return Date | N3: Actual Return Date | O3: Loan Status | P3: Annual Rental Fee (€) | Q3: Deposit (€) | R3: Damage/Loss Charge (€) | S3: Amount Paid (€) | T3: Outstanding Balance (€) | U3: Return Condition | V3: Notes | W3: Payment %
A4: BR-2026-001 | B4: Aoife Murphy | C4: 6th Class | D4: St Brigid's National School | E4: Dublin | F4: STU-26-001 | G4: 9780000001001 | H4: Bright English 6 | I4: English | J4: Core textbook | K4: Good | L4: 46266 | M4: 46546 | O4: =IF(A4="","",IF(N4<>"","Returned",IF(M4="","",IF(TODAY()>M4,"Overdue","On Loan")))) | P4: =IF(A4="","",IFERROR(VLOOKUP(J4,'Lists & Guidance'!$A$15:$B$17,2,FALSE),0)) | Q4: 20 | R4: 0 | S4: 60 | T4: =IF(A4="","",MAX(0,P4+R4-S4)) | V4: Paid in full | W4: =IF(A4="","",IF(P4+R4=0,0,S4/(P4+R4)))
A5: BR-2026-002 | B5: Seán O’Brien | C5: 1st Year | D5: Coláiste na Coiribe | E5: Cork | F5: STU-26-002 | G5: 9780000001002 | H5: Project Maths 1 | I5: Mathematics | J5: Workbook | K5: New | L5: 46267 | M5: 46526 | O5: =IF(A5="","",IF(N5<>"","Returned",IF(M5="","",IF(TODAY()>M5,"Overdue","On Loan")))) | P5: =IF(A5="","",IFERROR(VLOOKUP(J5,'Lists & Guidance'!$A$15:$B$17,2,FALSE),0)) | Q5: 10 | R5: 0 | S5: 25 | T5: =IF(A5="","",MAX(0,P5+R5-S5)) | V5: First instalment received | W5: =IF(A5="","",IF(P5+R5=0,0,S5/(P5+R5)))
A6: BR-2026-003 | B6: Niamh Kelly | C6: 2nd Year | D6: Galway Community College | E6: Galway | F6: STU-26-003 | G6: 9780000001003 | H6: Foclóir Gaeilge 2 | I6: Irish | J6: Irish language text | K6: Good | L6: 46268 | M6: 46536 | N6: 46275 | O6: =IF(A6="","",IF(N6<>"","Returned",IF(M6="","",IF(TODAY()>M6,"Overdue","On Loan")))) | P6: =IF(A6="","",IFERROR(VLOOKUP(J6,'Lists & Guidance'!$A$15:$B$17,2,FALSE),0)) | Q6: 25 | R6: 10 | S6: 85 | T6: =IF(A6="","",MAX(0,P6+R6-S6)) | U6: Fair | V6: Returned early; cover marked | W6: =IF(A6="","",IF(P6+R6=0,0,S6/(P6+R6)))
A7: BR-2026-004 | B7: Cian Byrne | C7: 5th Class | D7: Scoil Mhuire | E7: Limerick | F7: STU-26-004 | G7: 9780000001004 | H7: Primary Science 5 | I7: Science | J7: Core textbook | K7: Good | L7: 46269 | M7: 46275 | O7: =IF(A7="","",IF(N7<>"","Returned",IF(M7="","",IF(TODAY()>M7,"Overdue","On Loan")))) | P7: =IF(A7="","",IFERROR(VLOOKUP(J7,'Lists & Guidance'!$A$15:$B$17,2,FALSE),0)) | Q7: 0 | R7: 0 | S7: 30 | T7: =IF(A7="","",MAX(0,P7+R7-S7)) | V7: Reminder to be issued | W7: =IF(A7="","",IF(P7+R7=0,0,S7/(P7+R7)))
A8: BR-2026-005 | B8: Saoirse Walsh | C8: 3rd Year | D8: Waterford Educate Together | E8: Waterford | F8: STU-26-005 | G8: 9780000001005 | H8: Discovering History 3 | I8: History | J8: Core textbook | K8: Good | L8: 46270 | M8: 46516 | O8: =IF(A8="","",IF(N8<>"","Returned",IF(M8="","",IF(TODAY()>M8,"Overdue","On Loan")))) | P8: =IF(A8="","",IFERROR(VLOOKUP(J8,'Lists & Guidance'!$A$15:$B$17,2,FALSE),0)) | Q8: 20 | R8: 25 | S8: 50 | T8: =IF(A8="","",MAX(0,P8+R8-S8)) | V8: Damage charge agreed with parent/guardian | W8: =IF(A8="","",IF(P8+R8=0,0,S8/(P8+R8)))
A9: BR-2026-006 | B9: Conor Ryan | C9: 6th Class | D9: St Canice's National School | E9: Kilkenny | F9: STU-26-006 | G9: 9780000001006 | H9: Reading Together 6 | I9: English | J9: Workbook | K9: New | L9: 46271 | M9: 46531 | N9: 46274 | O9: =IF(A9="","",IF(N9<>"","Returned",IF(M9="","",IF(TODAY()>M9,"Overdue","On Loan")))) | P9: =IF(A9="","",IFERROR(VLOOKUP(J9,'Lists & Guidance'!$A$15:$B$17,2,FALSE),0)) | Q9: 10 | R9: 0 | S9: 50 | T9: =IF(A9="","",MAX(0,P9+R9-S9)) | U9: Good | V9: Returned in good condition | W9: =IF(A9="","",IF(P9+R9=0,0,S9/(P9+R9)))
A10: BR-2026-007 | B10: Ciara Doyle | C10: 1st Year | D10: Sligo Grammar School | E10: Sligo | F10: STU-26-007 | G10: 9780000001007 | H10: Gaeilge Bheo 1 | I10: Irish | J10: Irish language text | K10: New | L10: 46272 | M10: 46283 | O10: =IF(A10="","",IF(N10<>"","Returned",IF(M10="","",IF(TODAY()>M10,"Overdue","On Loan")))) | P10: =IF(A10="","",IFERROR(VLOOKUP(J10,'Lists & Guidance'!$A$15:$B$17,2,FALSE),0)) | Q10: 0 | R10: 0 | S10: 0 | T10: =IF(A10="","",MAX(0,P10+R10-S10)) | V10: Payment pending | W10: =IF(A10="","",IF(P10+R10=0,0,S10/(P10+R10)))
A11: BR-2026-008 | B11: Oisín McCarthy | C11: 4th Class | D11: St Oliver Plunkett School | E11: Drogheda | F11: STU-26-008 | G11: 9780000001008 | H11: Maths Challenge 4 | I11: Mathematics | J11: Core textbook | K11: Good | L11: 46273 | M11: 46274 | O11: =IF(A11="","",IF(N11<>"","Returned",IF(M11="","",IF(TODAY()>M11,"Overdue","On Loan")))) | P11: =IF(A11="","",IFERROR(VLOOKUP(J11,'Lists & Guidance'!$A$15:$B$17,2,FALSE),0)) | Q11: 15 | R11: 15 | S11: 40 | T11: =IF(A11="","",MAX(0,P11+R11-S11)) | V11: Book cover damaged at issue check | W11: =IF(A11="","",IF(P11+R11=0,0,S11/(P11+R11)))
A12: BR-2026-009 | B12: Róisín Nolan | C12: 2nd Year | D12: Dundalk Grammar School | E12: Dundalk | F12: STU-26-009 | G12: 9780000001009 | H12: Essential Science 2 | I12: Science | J12: Workbook | K12: New | L12: 46274 | M12: 46506 | O12: =IF(A12="","",IF(N12<>"","Returned",IF(M12="","",IF(TODAY()>M12,"Overdue","On Loan")))) | P12: =IF(A12="","",IFERROR(VLOOKUP(J12,'Lists & Guidance'!$A$15:$B$17,2,FALSE),0)) | Q12: 10 | R12: 0 | S12: 25 | T12: =IF(A12="","",MAX(0,P12+R12-S12)) | V12: Second instalment due | W12: =IF(A12="","",IF(P12+R12=0,0,S12/(P12+R12)))
A13: BR-2026-010 | B13: Liam Fitzgerald | C13: 5th Class | D13: Wexford Model School | E13: Wexford | F13: STU-26-010 | G13: 9780000001010 | H13: Ireland Through Time | I13: History | J13: Core textbook | K13: Good | L13: 46275 | M13: 46641 | O13: =IF(A13="","",IF(N13<>"","Returned",IF(M13="","",IF(TODAY()>M13,"Overdue","On Loan")))) | P13: =IF(A13="","",IFERROR(VLOOKUP(J13,'Lists & Guidance'!$A$15:$B$17,2,FALSE),0)) | Q13: 25 | R13: 0 | S13: 60 | T13: =IF(A13="","",MAX(0,P13+R13-S13)) | V13: Paid in full | W13: =IF(A13="","",IF(P13+R13=0,0,S13/(P13+R13)))
O14: =IF(A14="","",IF(N14<>"","Returned",IF(M14="","",IF(TODAY()>M14,"Overdue","On Loan")))) | P14: =IF(A14="","",IFERROR(VLOOKUP(J14,'Lists & Guidance'!$A$15:$B$17,2,FALSE),0)) | T14: =IF(A14="","",MAX(0,P14+R14-S14)) | W14: =IF(A14="","",IF(P14+R14=0,0,S14/(P14+R14)))
O15: =IF(A15="","",IF(N15<>"","Returned",IF(M15="","",IF(TODAY()>M15,"Overdue","On Loan")))) | P15: =IF(A15="","",IFERROR(VLOOKUP(J15,'Lists & Guidance'!$A$15:$B$17,2,FALSE),0)) | T15: =IF(A15="","",MAX(0,P15+R15-S15)) | W15: =IF(A15="","",IF(P15+R15=0,0,S15/(P15+R15)))
O16: =IF(A16="","",IF(N16<>"","Returned",IF(M16="","",IF(TODAY()>M16,"Overdue","On Loan")))) | P16: =IF(A16="","",IFERROR(VLOOKUP(J16,'Lists & Guidance'!$A$15:$B$17,2,FALSE),0)) | T16: =IF(A16="","",MAX(0,P16+R16-S16)) | W16: =IF(A16="","",IF(P16+R16=0,0,S16/(P16+R16)))
O17: =IF(A17="","",IF(N17<>"","Returned",IF(M17="","",IF(TODAY()>M17,"Overdue","On Loan")))) | P17: =IF(A17="","",IFERROR(VLOOKUP(J17,'Lists & Guidance'!$A$15:$B$17,2,FALSE),0)) | T17: =IF(A17="","",MAX(0,P17+R17-S17)) | W17: =IF(A17="","",IF(P17+R17=0,0,S17/(P17+R17)))
O18: =IF(A18="","",IF(N18<>"","Returned",IF(M18="","",IF(TODAY()>M18,"Overdue","On Loan")))) | P18: =IF(A18="","",IFERROR(VLOOKUP(J18,'Lists & Guidance'!$A$15:$B$17,2,FALSE),0)) | T18: =IF(A18="","",MAX(0,P18+R18-S18)) | W18: =IF(A18="","",IF(P18+R18=0,0,S18/(P18+R18)))
O19: =IF(A19="","",IF(N19<>"","Returned",IF(M19="","",IF(TODAY()>M19,"Overdue","On Loan")))) | P19: =IF(A19="","",IFERROR(VLOOKUP(J19,'Lists & Guidance'!$A$15:$B$17,2,FALSE),0)) | T19: =IF(A19="","",MAX(0,P19+R19-S19)) | W19: =IF(A19="","",IF(P19+R19=0,0,S19/(P19+R19)))
O20: =IF(A20="","",IF(N20<>"","Returned",IF(M20="","",IF(TODAY()>M20,"Overdue","On Loan")))) | P20: =IF(A20="","",IFERROR(VLOOKUP(J20,'Lists & Guidance'!$A$15:$B$17,2,FALSE),0)) | T20: =IF(A20="","",MAX(0,P20+R20-S20)) | W20: =IF(A20="","",IF(P20+R20=0,0,S20/(P20+R20)))
O21: =IF(A21="","",IF(N21<>"","Returned",IF(M21="","",IF(TODAY()>M21,"Overdue","On Loan")))) | P21: =IF(A21="","",IFERROR(VLOOKUP(J21,'Lists & Guidance'!$A$15:$B$17,2,FALSE),0)) | T21: =IF(A21="","",MAX(0,P21+R21-S21)) | W21: =IF(A21="","",IF(P21+R21=0,0,S21/(P21+R21)))
O22: =IF(A22="","",IF(N22<>"","Returned",IF(M22="","",IF(TODAY()>M22,"Overdue","On Loan")))) | P22: =IF(A22="","",IFERROR(VLOOKUP(J22,'Lists & Guidance'!$A$15:$B$17,2,FALSE),0)) | T22: =IF(A22="","",MAX(0,P22+R22-S22)) | W22: =IF(A22="","",IF(P22+R22=0,0,S22/(P22+R22)))
O23: =IF(A23="","",IF(N23<>"","Returned",IF(M23="","",IF(TODAY()>M23,"Overdue","On Loan")))) | P23: =IF(A23="","",IFERROR(VLOOKUP(J23,'Lists & Guidance'!$A$15:$B$17,2,FALSE),0)) | T23: =IF(A23="","",MAX(0,P23+R23-S23)) | W23: =IF(A23="","",IF(P23+R23=0,0,S23/(P23+R23)))
O24: =IF(A24="","",IF(N24<>"","Returned",IF(M24="","",IF(TODAY()>M24,"Overdue","On Loan")))) | P24: =IF(A24="","",IFERROR(VLOOKUP(J24,'Lists & Guidance'!$A$15:$B$17,2,FALSE),0)) | T24: =IF(A24="","",MAX(0,P24+R24-S24)) | W24: =IF(A24="","",IF(P24+R24=0,0,S24/(P24+R24)))
O25: =IF(A25="","",IF(N25<>"","Returned",IF(M25="","",IF(TODAY()>M25,"Overdue","On Loan")))) | P25: =IF(A25="","",IFERROR(VLOOKUP(J25,'Lists & Guidance'!$A$15:$B$17,2,FALSE),0)) | T25: =IF(A25="","",MAX(0,P25+R25-S25)) | W25: =IF(A25="","",IF(P25+R25=0,0,S25/(P25+R25)))
... O113: =IF(A113="","",IF(N113<>"","Returned",IF(M113="","",IF(TODAY()>M113,"Overdue","On Loan")))) | P113: =IF(A113="","",IFERROR(VLOOKUP(J113,'Lists & Guidance'!$A$15:$B$17,2,FALSE),0)) | T113: =IF(A113="","",MAX(0,P113+R113-S113)) | W113: =IF(A113="","",IF(P113+R113=0,0,S113/(P113+R113)))

Sheet Dashboard
A1: Book Rental Scheme Dashboard — 2026
A2: Summary values recalculate from the Rental Register. Review overdue loans, outstanding payments and returned books requiring attention.
A3: Total books on loan | C3: Total returned | E3: Total overdue
A4: =COUNTIF('Rental Register'!$O$4:$O$113,"On Loan") | C4: =COUNTIF('Rental Register'!$O$4:$O$113,"Returned") | E4: =COUNTIF('Rental Register'!$O$4:$O$113,"Overdue")
A6: Total outstanding | C6: Average rental fee | E6: Return rate
A7: =SUM('Rental Register'!$T$4:$T$113) | C7: =IFERROR(AVERAGE('Rental Register'!$P$4:$P$113),0) | E7: =IFERROR(COUNTIF('Rental Register'!$O$4:$O$113,"Returned")/COUNTA('Rental Register'!$A$4:$A$113),0)
A10: Loan Status | B10: Books | D10: Pupil | E10: Outstanding Balance (€) | G10: Subject | H10: Books
A11: On Loan | B11: =COUNTIF('Rental Register'!$O$4:$O$113,A11) | D11: =IF('Rental Register'!$A$4="","",'Rental Register'!$B$4) | E11: =IF('Rental Register'!$A$4="","",'Rental Register'!$T$4) | G11: English | H11: =COUNTIF('Rental Register'!$I$4:$I$113,G11)
A12: Returned | B12: =COUNTIF('Rental Register'!$O$4:$O$113,A12) | D12: =IF('Rental Register'!$A$5="","",'Rental Register'!$B$5) | E12: =IF('Rental Register'!$A$5="","",'Rental Register'!$T$5) | G12: Irish | H12: =COUNTIF('Rental Register'!$I$4:$I$113,G12)
A13: Overdue | B13: =COUNTIF('Rental Register'!$O$4:$O$113,A13) | D13: =IF('Rental Register'!$A$6="","",'Rental Register'!$B$6) | E13: =IF('Rental Register'!$A$6="","",'Rental Register'!$T$6) | G13: Mathematics | H13: =COUNTIF('Rental Register'!$I$4:$I$113,G13)
D14: =IF('Rental Register'!$A$7="","",'Rental Register'!$B$7) | E14: =IF('Rental Register'!$A$7="","",'Rental Register'!$T$7) | G14: Science | H14: =COUNTIF('Rental Register'!$I$4:$I$113,G14)
D15: =IF('Rental Register'!$A$8="","",'Rental Register'!$B$8) | E15: =IF('Rental Register'!$A$8="","",'Rental Register'!$T$8) | G15: History | H15: =COUNTIF('Rental Register'!$I$4:$I$113,G15)
D16: =IF('Rental Register'!$A$9="","",'Rental Register'!$B$9) | E16: =IF('Rental Register'!$A$9="","",'Rental Register'!$T$9)
D17: =IF('Rental Register'!$A$10="","",'Rental Register'!$B$10) | E17: =IF('Rental Register'!$A$10="","",'Rental Register'!$T$10)
D18: =IF('Rental Register'!$A$11="","",'Rental Register'!$B$11) | E18: =IF('Rental Register'!$A$11="","",'Rental Register'!$T$11)
D19: =IF('Rental Register'!$A$12="","",'Rental Register'!$B$12) | E19: =IF('Rental Register'!$A$12="","",'Rental Register'!$T$12)
D20: =IF('Rental Register'!$A$13="","",'Rental Register'!$B$13) | E20: =IF('Rental Register'!$A$13="","",'Rental Register'!$T$13)
D21: =IF('Rental Register'!$A$14="","",'Rental Register'!$B$14) | E21: =IF('Rental Register'!$A$14="","",'Rental Register'!$T$14)
D22: =IF('Rental Register'!$A$15="","",'Rental Register'!$B$15) | E22: =IF('Rental Register'!$A$15="","",'Rental Register'!$T$15)
D23: =IF('Rental Register'!$A$16="","",'Rental Register'!$B$16) | E23: =IF('Rental Register'!$A$16="","",'Rental Register'!$T$16)
D24: =IF('Rental Register'!$A$17="","",'Rental Register'!$B$17) | E24: =IF('Rental Register'!$A$17="","",'Rental Register'!$T$17)
D25: =IF('Rental Register'!$A$18="","",'Rental Register'!$B$18) | E25: =IF('Rental Register'!$A$18="","",'Rental Register'!$T$18)
D26: =IF('Rental Register'!$A$19="","",'Rental Register'!$B$19) | E26: =IF('Rental Register'!$A$19="","",'Rental Register'!$T$19)
D27: =IF('Rental Register'!$A$20="","",'Rental Register'!$B$20) | E27: =IF('Rental Register'!$A$20="","",'Rental Register'!$T$20)
D28: =IF('Rental Register'!$A$21="","",'Rental Register'!$B$21) | E28: =IF('Rental Register'!$A$21="","",'Rental Register'!$T$21)
D29: =IF('Rental Register'!$A$22="","",'Rental Register'!$B$22) | E29: =IF('Rental Register'!$A$22="","",'Rental Register'!$T$22)
D30: =IF('Rental Register'!$A$23="","",'Rental Register'!$B$23) | E30: =IF('Rental Register'!$A$23="","",'Rental Register'!$T$23)
D31: =IF('Rental Register'!$A$24="","",'Rental Register'!$B$24) | E31: =IF('Rental Register'!$A$24="","",'Rental Register'!$T$24)
D32: =IF('Rental Register'!$A$25="","",'Rental Register'!$B$25) | E32: =IF('Rental Register'!$A$25="","",'Rental Register'!$T$25)
D33: =IF('Rental Register'!$A$26="","",'Rental Register'!$B$26) | E33: =IF('Rental Register'!$A$26="","",'Rental Register'!$T$26)
D34: =IF('Rental Register'!$A$27="","",'Rental Register'!$B$27) | E34: =IF('Rental Register'!$A$27="","",'Rental Register'!$T$27)
D35: =IF('Rental Register'!$A$28="","",'Rental Register'!$B$28) | E35: =IF('Rental Register'!$A$28="","",'Rental Register'!$T$28)
D36: =IF('Rental Register'!$A$29="","",'Rental Register'!$B$29) | E36: =IF('Rental Register'!$A$29="","",'Rental Register'!$T$29)
D37: =IF('Rental Register'!$A$30="","",'Rental Register'!$B$30) | E37: =IF('Rental Register'!$A$30="","",'Rental Register'!$T$30)
D38: =IF('Rental Register'!$A$31="","",'Rental Register'!$B$31) | E38: =IF('Rental Register'!$A$31="","",'Rental Register'!$T$31)
D39: =IF('Rental Register'!$A$32="","",'Rental Register'!$B$32) | E39: =IF('Rental Register'!$A$32="","",'Rental Register'!$T$32)
D40: =IF('Rental Register'!$A$33="","",'Rental Register'!$B$33) | E40: =IF('Rental Register'!$A$33="","",'Rental Register'!$T$33)
D41: =IF('Rental Register'!$A$34="","",'Rental Register'!$B$34) | E41: =IF('Rental Register'!$A$34="","",'Rental Register'!$T$34)
D42: =IF('Rental Register'!$A$35="","",'Rental Register'!$B$35) | E42: =IF('Rental Register'!$A$35="","",'Rental Register'!$T$35)
D43: =IF('Rental Register'!$A$36="","",'Rental Register'!$B$36) | E43: =IF('Rental Register'!$A$36="","",'Rental Register'!$T$36)
...

Sheet Lists & Guidance
A1: Lists & Guidance — School Book Rental Scheme
A2: Use the lists below for consistent data entry. All data in this template is fictional.
A3: Loan Status | B3: Condition | C3: Subject | D3: Book Type
A4: On Loan | B4: New | C4: English | D4: Core textbook
A5: Returned | B5: Good | C5: Irish | D5: Workbook
A6: Overdue | B6: Fair | C6: Mathematics | D6: Irish language text
B7: Damaged | C7: Science
B8: Lost | C8: History
A13: Standard Rental Fee Lookup | D13: Operational Guidance
A14: Book Type | B14: Annual Rental Fee (€) | D14: 1. Create a unique Loan ID and enter the pupil, book and issue details in the Rental Register.
A15: Core textbook | B15: 60 | D15: 2. Do not enter actual PPS numbers. Use only a school-approved fictional or internal student reference in this template.
A16: Workbook | B16: 50 | D16: 3. The annual rental fee is retrieved automatically from the fee lookup table using the selected Book Type.
A17: Irish language text | B17: 75 | D17: 4. On return, enter the Actual Return Date, Return Condition and any Damage/Loss Charge requiring follow-up.
D18: 5. Record payments only after they have been reconciled through the school's approved payment process.
D19: 6. Review overdue loans and outstanding balances regularly. Returned books marked Fair, Damaged or Lost should be reviewed.
D20: 7. All sample data is fictional. Schools must follow GDPR and Data Protection Commission obligations when managing pupil records.
A21: Template Note
A22: Keep access to this workbook limited to authorised school staff, use the minimum personal data required, and retain records only in line with the school's data protection procedures.
