Workbook

Sheet Study Timetable
A1: Date | B1: Day | C1: Start Time | D1: End Time | E1: Duration (Hours) | F1: Subject | G1: Level | H1: Topic / Chapter | I1: Study Method | J1: Priority | K1: Status | L1: Target Hours | M1: Completion % | N1: Notes
A2: 46272 | B2: =IF(A2="","",A2) | C2: 0.6875 | D2: 0.75 | E2: =IF(OR(C2="",D2=""),"",IFERROR((D2-C2)*24,"")) | F2: Maths | G2: Higher | H2: Algebra and functions | I2: Past Paper | J2: High | K2: Completed | L2: =IF(F2="","",IFERROR(VLOOKUP(F2,'Instructions'!$F$5:$G$13,2,FALSE),"")) | M2: =IF(K2="","",IF(K2="Completed",100%,IF(K2="In Progress",50%,0%))) | N2: Aoife's Dublin revision plan
A3: 46275 | B3: =IF(A3="","",A3) | C3: 0.79166667 | D3: 0.85416667 | E3: =IF(OR(C3="",D3=""),"",IFERROR((D3-C3)*24,"")) | F3: Irish | G3: Higher | H3: An Triail essay planning | I3: Essay Plan | J3: High | K3: In Progress | L3: =IF(F3="","",IFERROR(VLOOKUP(F3,'Instructions'!$F$5:$G$13,2,FALSE),"")) | M3: =IF(K3="","",IF(K3="Completed",100%,IF(K3="In Progress",50%,0%))) | N3: Seán's Galway essay structure practice
A4: 46279 | B4: =IF(A4="","",A4) | C4: 0.70833333 | D4: 0.77083333 | E4: =IF(OR(C4="",D4=""),"",IFERROR((D4-C4)*24,"")) | F4: Biology | G4: Higher | H4: Genetics and inheritance | I4: Flashcards | J4: Medium | K4: Planned | L4: =IF(F4="","",IFERROR(VLOOKUP(F4,'Instructions'!$F$5:$G$13,2,FALSE),"")) | M4: =IF(K4="","",IF(K4="Completed",100%,IF(K4="In Progress",50%,0%))) | N4: Niamh's Cork active recall session
A5: 46282 | B5: =IF(A5="","",A5) | C5: 0.77083333 | D5: 0.83333333 | E5: =IF(OR(C5="",D5=""),"",IFERROR((D5-C5)*24,"")) | F5: English | G5: Higher | H5: Comparative study | I5: Notes | J5: Medium | K5: Completed | L5: =IF(F5="","",IFERROR(VLOOKUP(F5,'Instructions'!$F$5:$G$13,2,FALSE),"")) | M5: =IF(K5="","",IF(K5="Completed",100%,IF(K5="In Progress",50%,0%))) | N5: Cian's Limerick comparative texts review
A6: 46286 | B6: =IF(A6="","",A6) | C6: 0.6875 | D6: 0.75 | E6: =IF(OR(C6="",D6=""),"",IFERROR((D6-C6)*24,"")) | F6: French | G6: Higher | H6: Oral preparation | I6: Quiz | J6: High | K6: In Progress | L6: =IF(F6="","",IFERROR(VLOOKUP(F6,'Instructions'!$F$5:$G$13,2,FALSE),"")) | M6: =IF(K6="","",IF(K6="Completed",100%,IF(K6="In Progress",50%,0%))) | N6: Saoirse's Waterford oral confidence practice
A7: 46289 | B7: =IF(A7="","",A7) | C7: 0.79166667 | D7: 0.85416667 | E7: =IF(OR(C7="",D7=""),"",IFERROR((D7-C7)*24,"")) | F7: History | G7: Higher | H7: Sovereignty and partition | I7: Past Paper | J7: High | K7: Planned | L7: =IF(F7="","",IFERROR(VLOOKUP(F7,'Instructions'!$F$5:$G$13,2,FALSE),"")) | M7: =IF(K7="","",IF(K7="Completed",100%,IF(K7="In Progress",50%,0%))) | N7: Conor's Kilkenny document question practice
A8: 46293 | B8: =IF(A8="","",A8) | C8: 0.72916667 | D8: 0.79166667 | E8: =IF(OR(C8="",D8=""),"",IFERROR((D8-C8)*24,"")) | F8: Chemistry | G8: Higher | H8: Organic chemistry | I8: Flashcards | J8: Medium | K8: Completed | L8: =IF(F8="","",IFERROR(VLOOKUP(F8,'Instructions'!$F$5:$G$13,2,FALSE),"")) | M8: =IF(K8="","",IF(K8="Completed",100%,IF(K8="In Progress",50%,0%))) | N8: Ciara's Sligo reaction mechanism review
A9: 46295 | B9: =IF(A9="","",A9) | C9: 0.75 | D9: 0.8125 | E9: =IF(OR(C9="",D9=""),"",IFERROR((D9-C9)*24,"")) | F9: Business | G9: Ordinary | H9: Enterprise and management | I9: Notes | J9: Low | K9: Planned | L9: =IF(F9="","",IFERROR(VLOOKUP(F9,'Instructions'!$F$5:$G$13,2,FALSE),"")) | M9: =IF(K9="","",IF(K9="Completed",100%,IF(K9="In Progress",50%,0%))) | N9: Oisín's Drogheda business case study
A10: 46297 | B10: =IF(A10="","",A10) | C10: 0.6875 | D10: 0.75 | E10: =IF(OR(C10="",D10=""),"",IFERROR((D10-C10)*24,"")) | F10: Geography | G10: Higher | H10: Regional development | I10: Essay Plan | J10: Medium | K10: In Progress | L10: =IF(F10="","",IFERROR(VLOOKUP(F10,'Instructions'!$F$5:$G$13,2,FALSE),"")) | M10: =IF(K10="","",IF(K10="Completed",100%,IF(K10="In Progress",50%,0%))) | N10: Róisín's Dundalk regional development notes
B11: =IF(A11="","",A11) | E11: =IF(OR(C11="",D11=""),"",IFERROR((D11-C11)*24,"")) | L11: =IF(F11="","",IFERROR(VLOOKUP(F11,'Instructions'!$F$5:$G$13,2,FALSE),"")) | M11: =IF(K11="","",IF(K11="Completed",100%,IF(K11="In Progress",50%,0%)))
B12: =IF(A12="","",A12) | E12: =IF(OR(C12="",D12=""),"",IFERROR((D12-C12)*24,"")) | L12: =IF(F12="","",IFERROR(VLOOKUP(F12,'Instructions'!$F$5:$G$13,2,FALSE),"")) | M12: =IF(K12="","",IF(K12="Completed",100%,IF(K12="In Progress",50%,0%)))
B13: =IF(A13="","",A13) | E13: =IF(OR(C13="",D13=""),"",IFERROR((D13-C13)*24,"")) | L13: =IF(F13="","",IFERROR(VLOOKUP(F13,'Instructions'!$F$5:$G$13,2,FALSE),"")) | M13: =IF(K13="","",IF(K13="Completed",100%,IF(K13="In Progress",50%,0%)))
B14: =IF(A14="","",A14) | E14: =IF(OR(C14="",D14=""),"",IFERROR((D14-C14)*24,"")) | L14: =IF(F14="","",IFERROR(VLOOKUP(F14,'Instructions'!$F$5:$G$13,2,FALSE),"")) | M14: =IF(K14="","",IF(K14="Completed",100%,IF(K14="In Progress",50%,0%)))
B15: =IF(A15="","",A15) | E15: =IF(OR(C15="",D15=""),"",IFERROR((D15-C15)*24,"")) | L15: =IF(F15="","",IFERROR(VLOOKUP(F15,'Instructions'!$F$5:$G$13,2,FALSE),"")) | M15: =IF(K15="","",IF(K15="Completed",100%,IF(K15="In Progress",50%,0%)))
B16: =IF(A16="","",A16) | E16: =IF(OR(C16="",D16=""),"",IFERROR((D16-C16)*24,"")) | L16: =IF(F16="","",IFERROR(VLOOKUP(F16,'Instructions'!$F$5:$G$13,2,FALSE),"")) | M16: =IF(K16="","",IF(K16="Completed",100%,IF(K16="In Progress",50%,0%)))
B17: =IF(A17="","",A17) | E17: =IF(OR(C17="",D17=""),"",IFERROR((D17-C17)*24,"")) | L17: =IF(F17="","",IFERROR(VLOOKUP(F17,'Instructions'!$F$5:$G$13,2,FALSE),"")) | M17: =IF(K17="","",IF(K17="Completed",100%,IF(K17="In Progress",50%,0%)))
B18: =IF(A18="","",A18) | E18: =IF(OR(C18="",D18=""),"",IFERROR((D18-C18)*24,"")) | L18: =IF(F18="","",IFERROR(VLOOKUP(F18,'Instructions'!$F$5:$G$13,2,FALSE),"")) | M18: =IF(K18="","",IF(K18="Completed",100%,IF(K18="In Progress",50%,0%)))
B19: =IF(A19="","",A19) | E19: =IF(OR(C19="",D19=""),"",IFERROR((D19-C19)*24,"")) | L19: =IF(F19="","",IFERROR(VLOOKUP(F19,'Instructions'!$F$5:$G$13,2,FALSE),"")) | M19: =IF(K19="","",IF(K19="Completed",100%,IF(K19="In Progress",50%,0%)))
B20: =IF(A20="","",A20) | E20: =IF(OR(C20="",D20=""),"",IFERROR((D20-C20)*24,"")) | L20: =IF(F20="","",IFERROR(VLOOKUP(F20,'Instructions'!$F$5:$G$13,2,FALSE),"")) | M20: =IF(K20="","",IF(K20="Completed",100%,IF(K20="In Progress",50%,0%)))
B21: =IF(A21="","",A21) | E21: =IF(OR(C21="",D21=""),"",IFERROR((D21-C21)*24,"")) | L21: =IF(F21="","",IFERROR(VLOOKUP(F21,'Instructions'!$F$5:$G$13,2,FALSE),"")) | M21: =IF(K21="","",IF(K21="Completed",100%,IF(K21="In Progress",50%,0%)))
B22: =IF(A22="","",A22) | E22: =IF(OR(C22="",D22=""),"",IFERROR((D22-C22)*24,"")) | L22: =IF(F22="","",IFERROR(VLOOKUP(F22,'Instructions'!$F$5:$G$13,2,FALSE),"")) | M22: =IF(K22="","",IF(K22="Completed",100%,IF(K22="In Progress",50%,0%)))
... B101: =IF(A101="","",A101) | E101: =IF(OR(C101="",D101=""),"",IFERROR((D101-C101)*24,"")) | L101: =IF(F101="","",IFERROR(VLOOKUP(F101,'Instructions'!$F$5:$G$13,2,FALSE),"")) | M101: =IF(K101="","",IF(K101="Completed",100%,IF(K101="In Progress",50%,0%)))

Sheet Dashboard
A1: Leaving Certificate Study Dashboard – 2026/27
A3: Key metric | B3: Current value
A4: Total Planned Hours | B4: =IFERROR(SUM('Study Timetable'!$E$2:$E$101),0)
A5: Average Session Length | B5: =IFERROR(AVERAGE('Study Timetable'!$E$2:$E$101),0)
A6: Completed Sessions | B6: =COUNTIF('Study Timetable'!$K$2:$K$101,"Completed")
A7: Overall Completion | B7: =IFERROR(AVERAGE('Study Timetable'!$M$2:$M$101),0)
A8: High-Priority Sessions | B8: =COUNTIF('Study Timetable'!$J$2:$J$101,"High")
A9: Sessions Remaining | B9: =COUNTIF('Study Timetable'!$K$2:$K$101,"<>Completed")
A14: Subject | B14: Number of Sessions | C14: Total Hours | D14: Average Completion | E14: Target Hours per Session | F14: Progress Indicator | H14: Status | I14: Sessions
A15: Maths | B15: =IF(A15="","",COUNTIF('Study Timetable'!$F$2:$F$101,A15)) | C15: =IF(A15="","",IFERROR(SUMIF('Study Timetable'!$F$2:$F$101,A15,'Study Timetable'!$E$2:$E$101),0)) | D15: =IF(A15="","",IFERROR(SUMIF('Study Timetable'!$F$2:$F$101,A15,'Study Timetable'!$M$2:$M$101)/COUNTIF('Study Timetable'!$F$2:$F$101,A15),0)) | E15: =IF(A15="","",IFERROR(VLOOKUP(A15,'Instructions'!$F$5:$G$13,2,FALSE),0)) | F15: =IF(A15="","",IF(D15>=100%,"On track",IF(D15>=50%,"In progress","Needs attention"))) | H15: Planned | I15: =IF(H15="","",COUNTIF('Study Timetable'!$K$2:$K$101,H15))
A16: Irish | B16: =IF(A16="","",COUNTIF('Study Timetable'!$F$2:$F$101,A16)) | C16: =IF(A16="","",IFERROR(SUMIF('Study Timetable'!$F$2:$F$101,A16,'Study Timetable'!$E$2:$E$101),0)) | D16: =IF(A16="","",IFERROR(SUMIF('Study Timetable'!$F$2:$F$101,A16,'Study Timetable'!$M$2:$M$101)/COUNTIF('Study Timetable'!$F$2:$F$101,A16),0)) | E16: =IF(A16="","",IFERROR(VLOOKUP(A16,'Instructions'!$F$5:$G$13,2,FALSE),0)) | F16: =IF(A16="","",IF(D16>=100%,"On track",IF(D16>=50%,"In progress","Needs attention"))) | H16: In Progress | I16: =IF(H16="","",COUNTIF('Study Timetable'!$K$2:$K$101,H16))
A17: Biology | B17: =IF(A17="","",COUNTIF('Study Timetable'!$F$2:$F$101,A17)) | C17: =IF(A17="","",IFERROR(SUMIF('Study Timetable'!$F$2:$F$101,A17,'Study Timetable'!$E$2:$E$101),0)) | D17: =IF(A17="","",IFERROR(SUMIF('Study Timetable'!$F$2:$F$101,A17,'Study Timetable'!$M$2:$M$101)/COUNTIF('Study Timetable'!$F$2:$F$101,A17),0)) | E17: =IF(A17="","",IFERROR(VLOOKUP(A17,'Instructions'!$F$5:$G$13,2,FALSE),0)) | F17: =IF(A17="","",IF(D17>=100%,"On track",IF(D17>=50%,"In progress","Needs attention"))) | H17: Completed | I17: =IF(H17="","",COUNTIF('Study Timetable'!$K$2:$K$101,H17))
A18: English | B18: =IF(A18="","",COUNTIF('Study Timetable'!$F$2:$F$101,A18)) | C18: =IF(A18="","",IFERROR(SUMIF('Study Timetable'!$F$2:$F$101,A18,'Study Timetable'!$E$2:$E$101),0)) | D18: =IF(A18="","",IFERROR(SUMIF('Study Timetable'!$F$2:$F$101,A18,'Study Timetable'!$M$2:$M$101)/COUNTIF('Study Timetable'!$F$2:$F$101,A18),0)) | E18: =IF(A18="","",IFERROR(VLOOKUP(A18,'Instructions'!$F$5:$G$13,2,FALSE),0)) | F18: =IF(A18="","",IF(D18>=100%,"On track",IF(D18>=50%,"In progress","Needs attention"))) | I18: =IF(H18="","",COUNTIF('Study Timetable'!$K$2:$K$101,H18))
A19: French | B19: =IF(A19="","",COUNTIF('Study Timetable'!$F$2:$F$101,A19)) | C19: =IF(A19="","",IFERROR(SUMIF('Study Timetable'!$F$2:$F$101,A19,'Study Timetable'!$E$2:$E$101),0)) | D19: =IF(A19="","",IFERROR(SUMIF('Study Timetable'!$F$2:$F$101,A19,'Study Timetable'!$M$2:$M$101)/COUNTIF('Study Timetable'!$F$2:$F$101,A19),0)) | E19: =IF(A19="","",IFERROR(VLOOKUP(A19,'Instructions'!$F$5:$G$13,2,FALSE),0)) | F19: =IF(A19="","",IF(D19>=100%,"On track",IF(D19>=50%,"In progress","Needs attention"))) | I19: =IF(H19="","",COUNTIF('Study Timetable'!$K$2:$K$101,H19))
A20: History | B20: =IF(A20="","",COUNTIF('Study Timetable'!$F$2:$F$101,A20)) | C20: =IF(A20="","",IFERROR(SUMIF('Study Timetable'!$F$2:$F$101,A20,'Study Timetable'!$E$2:$E$101),0)) | D20: =IF(A20="","",IFERROR(SUMIF('Study Timetable'!$F$2:$F$101,A20,'Study Timetable'!$M$2:$M$101)/COUNTIF('Study Timetable'!$F$2:$F$101,A20),0)) | E20: =IF(A20="","",IFERROR(VLOOKUP(A20,'Instructions'!$F$5:$G$13,2,FALSE),0)) | F20: =IF(A20="","",IF(D20>=100%,"On track",IF(D20>=50%,"In progress","Needs attention"))) | I20: =IF(H20="","",COUNTIF('Study Timetable'!$K$2:$K$101,H20))
A21: Chemistry | B21: =IF(A21="","",COUNTIF('Study Timetable'!$F$2:$F$101,A21)) | C21: =IF(A21="","",IFERROR(SUMIF('Study Timetable'!$F$2:$F$101,A21,'Study Timetable'!$E$2:$E$101),0)) | D21: =IF(A21="","",IFERROR(SUMIF('Study Timetable'!$F$2:$F$101,A21,'Study Timetable'!$M$2:$M$101)/COUNTIF('Study Timetable'!$F$2:$F$101,A21),0)) | E21: =IF(A21="","",IFERROR(VLOOKUP(A21,'Instructions'!$F$5:$G$13,2,FALSE),0)) | F21: =IF(A21="","",IF(D21>=100%,"On track",IF(D21>=50%,"In progress","Needs attention"))) | I21: =IF(H21="","",COUNTIF('Study Timetable'!$K$2:$K$101,H21))
A22: Business | B22: =IF(A22="","",COUNTIF('Study Timetable'!$F$2:$F$101,A22)) | C22: =IF(A22="","",IFERROR(SUMIF('Study Timetable'!$F$2:$F$101,A22,'Study Timetable'!$E$2:$E$101),0)) | D22: =IF(A22="","",IFERROR(SUMIF('Study Timetable'!$F$2:$F$101,A22,'Study Timetable'!$M$2:$M$101)/COUNTIF('Study Timetable'!$F$2:$F$101,A22),0)) | E22: =IF(A22="","",IFERROR(VLOOKUP(A22,'Instructions'!$F$5:$G$13,2,FALSE),0)) | F22: =IF(A22="","",IF(D22>=100%,"On track",IF(D22>=50%,"In progress","Needs attention"))) | I22: =IF(H22="","",COUNTIF('Study Timetable'!$K$2:$K$101,H22))
A23: Geography | B23: =IF(A23="","",COUNTIF('Study Timetable'!$F$2:$F$101,A23)) | C23: =IF(A23="","",IFERROR(SUMIF('Study Timetable'!$F$2:$F$101,A23,'Study Timetable'!$E$2:$E$101),0)) | D23: =IF(A23="","",IFERROR(SUMIF('Study Timetable'!$F$2:$F$101,A23,'Study Timetable'!$M$2:$M$101)/COUNTIF('Study Timetable'!$F$2:$F$101,A23),0)) | E23: =IF(A23="","",IFERROR(VLOOKUP(A23,'Instructions'!$F$5:$G$13,2,FALSE),0)) | F23: =IF(A23="","",IF(D23>=100%,"On track",IF(D23>=50%,"In progress","Needs attention"))) | I23: =IF(H23="","",COUNTIF('Study Timetable'!$K$2:$K$101,H23))
B24: =IF(A24="","",COUNTIF('Study Timetable'!$F$2:$F$101,A24)) | C24: =IF(A24="","",IFERROR(SUMIF('Study Timetable'!$F$2:$F$101,A24,'Study Timetable'!$E$2:$E$101),0)) | D24: =IF(A24="","",IFERROR(SUMIF('Study Timetable'!$F$2:$F$101,A24,'Study Timetable'!$M$2:$M$101)/COUNTIF('Study Timetable'!$F$2:$F$101,A24),0)) | E24: =IF(A24="","",IFERROR(VLOOKUP(A24,'Instructions'!$F$5:$G$13,2,FALSE),0)) | F24: =IF(A24="","",IF(D24>=100%,"On track",IF(D24>=50%,"In progress","Needs attention"))) | I24: =IF(H24="","",COUNTIF('Study Timetable'!$K$2:$K$101,H24))
B25: =IF(A25="","",COUNTIF('Study Timetable'!$F$2:$F$101,A25)) | C25: =IF(A25="","",IFERROR(SUMIF('Study Timetable'!$F$2:$F$101,A25,'Study Timetable'!$E$2:$E$101),0)) | D25: =IF(A25="","",IFERROR(SUMIF('Study Timetable'!$F$2:$F$101,A25,'Study Timetable'!$M$2:$M$101)/COUNTIF('Study Timetable'!$F$2:$F$101,A25),0)) | E25: =IF(A25="","",IFERROR(VLOOKUP(A25,'Instructions'!$F$5:$G$13,2,FALSE),0)) | F25: =IF(A25="","",IF(D25>=100%,"On track",IF(D25>=50%,"In progress","Needs attention"))) | I25: =IF(H25="","",COUNTIF('Study Timetable'!$K$2:$K$101,H25))
B26: =IF(A26="","",COUNTIF('Study Timetable'!$F$2:$F$101,A26)) | C26: =IF(A26="","",IFERROR(SUMIF('Study Timetable'!$F$2:$F$101,A26,'Study Timetable'!$E$2:$E$101),0)) | D26: =IF(A26="","",IFERROR(SUMIF('Study Timetable'!$F$2:$F$101,A26,'Study Timetable'!$M$2:$M$101)/COUNTIF('Study Timetable'!$F$2:$F$101,A26),0)) | E26: =IF(A26="","",IFERROR(VLOOKUP(A26,'Instructions'!$F$5:$G$13,2,FALSE),0)) | F26: =IF(A26="","",IF(D26>=100%,"On track",IF(D26>=50%,"In progress","Needs attention"))) | I26: =IF(H26="","",COUNTIF('Study Timetable'!$K$2:$K$101,H26))
B27: =IF(A27="","",COUNTIF('Study Timetable'!$F$2:$F$101,A27)) | C27: =IF(A27="","",IFERROR(SUMIF('Study Timetable'!$F$2:$F$101,A27,'Study Timetable'!$E$2:$E$101),0)) | D27: =IF(A27="","",IFERROR(SUMIF('Study Timetable'!$F$2:$F$101,A27,'Study Timetable'!$M$2:$M$101)/COUNTIF('Study Timetable'!$F$2:$F$101,A27),0)) | E27: =IF(A27="","",IFERROR(VLOOKUP(A27,'Instructions'!$F$5:$G$13,2,FALSE),0)) | F27: =IF(A27="","",IF(D27>=100%,"On track",IF(D27>=50%,"In progress","Needs attention"))) | I27: =IF(H27="","",COUNTIF('Study Timetable'!$K$2:$K$101,H27))
B28: =IF(A28="","",COUNTIF('Study Timetable'!$F$2:$F$101,A28)) | C28: =IF(A28="","",IFERROR(SUMIF('Study Timetable'!$F$2:$F$101,A28,'Study Timetable'!$E$2:$E$101),0)) | D28: =IF(A28="","",IFERROR(SUMIF('Study Timetable'!$F$2:$F$101,A28,'Study Timetable'!$M$2:$M$101)/COUNTIF('Study Timetable'!$F$2:$F$101,A28),0)) | E28: =IF(A28="","",IFERROR(VLOOKUP(A28,'Instructions'!$F$5:$G$13,2,FALSE),0)) | F28: =IF(A28="","",IF(D28>=100%,"On track",IF(D28>=50%,"In progress","Needs attention"))) | I28: =IF(H28="","",COUNTIF('Study Timetable'!$K$2:$K$101,H28))
B29: =IF(A29="","",COUNTIF('Study Timetable'!$F$2:$F$101,A29)) | C29: =IF(A29="","",IFERROR(SUMIF('Study Timetable'!$F$2:$F$101,A29,'Study Timetable'!$E$2:$E$101),0)) | D29: =IF(A29="","",IFERROR(SUMIF('Study Timetable'!$F$2:$F$101,A29,'Study Timetable'!$M$2:$M$101)/COUNTIF('Study Timetable'!$F$2:$F$101,A29),0)) | E29: =IF(A29="","",IFERROR(VLOOKUP(A29,'Instructions'!$F$5:$G$13,2,FALSE),0)) | F29: =IF(A29="","",IF(D29>=100%,"On track",IF(D29>=50%,"In progress","Needs attention"))) | I29: =IF(H29="","",COUNTIF('Study Timetable'!$K$2:$K$101,H29))
B30: =IF(A30="","",COUNTIF('Study Timetable'!$F$2:$F$101,A30)) | C30: =IF(A30="","",IFERROR(SUMIF('Study Timetable'!$F$2:$F$101,A30,'Study Timetable'!$E$2:$E$101),0)) | D30: =IF(A30="","",IFERROR(SUMIF('Study Timetable'!$F$2:$F$101,A30,'Study Timetable'!$M$2:$M$101)/COUNTIF('Study Timetable'!$F$2:$F$101,A30),0)) | E30: =IF(A30="","",IFERROR(VLOOKUP(A30,'Instructions'!$F$5:$G$13,2,FALSE),0)) | F30: =IF(A30="","",IF(D30>=100%,"On track",IF(D30>=50%,"In progress","Needs attention"))) | I30: =IF(H30="","",COUNTIF('Study Timetable'!$K$2:$K$101,H30))
B31: =IF(A31="","",COUNTIF('Study Timetable'!$F$2:$F$101,A31)) | C31: =IF(A31="","",IFERROR(SUMIF('Study Timetable'!$F$2:$F$101,A31,'Study Timetable'!$E$2:$E$101),0)) | D31: =IF(A31="","",IFERROR(SUMIF('Study Timetable'!$F$2:$F$101,A31,'Study Timetable'!$M$2:$M$101)/COUNTIF('Study Timetable'!$F$2:$F$101,A31),0)) | E31: =IF(A31="","",IFERROR(VLOOKUP(A31,'Instructions'!$F$5:$G$13,2,FALSE),0)) | F31: =IF(A31="","",IF(D31>=100%,"On track",IF(D31>=50%,"In progress","Needs attention"))) | I31: =IF(H31="","",COUNTIF('Study Timetable'!$K$2:$K$101,H31))
B32: =IF(A32="","",COUNTIF('Study Timetable'!$F$2:$F$101,A32)) | C32: =IF(A32="","",IFERROR(SUMIF('Study Timetable'!$F$2:$F$101,A32,'Study Timetable'!$E$2:$E$101),0)) | D32: =IF(A32="","",IFERROR(SUMIF('Study Timetable'!$F$2:$F$101,A32,'Study Timetable'!$M$2:$M$101)/COUNTIF('Study Timetable'!$F$2:$F$101,A32),0)) | E32: =IF(A32="","",IFERROR(VLOOKUP(A32,'Instructions'!$F$5:$G$13,2,FALSE),0)) | F32: =IF(A32="","",IF(D32>=100%,"On track",IF(D32>=50%,"In progress","Needs attention"))) | I32: =IF(H32="","",COUNTIF('Study Timetable'!$K$2:$K$101,H32))
B33: =IF(A33="","",COUNTIF('Study Timetable'!$F$2:$F$101,A33)) | C33: =IF(A33="","",IFERROR(SUMIF('Study Timetable'!$F$2:$F$101,A33,'Study Timetable'!$E$2:$E$101),0)) | D33: =IF(A33="","",IFERROR(SUMIF('Study Timetable'!$F$2:$F$101,A33,'Study Timetable'!$M$2:$M$101)/COUNTIF('Study Timetable'!$F$2:$F$101,A33),0)) | E33: =IF(A33="","",IFERROR(VLOOKUP(A33,'Instructions'!$F$5:$G$13,2,FALSE),0)) | F33: =IF(A33="","",IF(D33>=100%,"On track",IF(D33>=50%,"In progress","Needs attention"))) | I33: =IF(H33="","",COUNTIF('Study Timetable'!$K$2:$K$101,H33))
B34: =IF(A34="","",COUNTIF('Study Timetable'!$F$2:$F$101,A34)) | C34: =IF(A34="","",IFERROR(SUMIF('Study Timetable'!$F$2:$F$101,A34,'Study Timetable'!$E$2:$E$101),0)) | D34: =IF(A34="","",IFERROR(SUMIF('Study Timetable'!$F$2:$F$101,A34,'Study Timetable'!$M$2:$M$101)/COUNTIF('Study Timetable'!$F$2:$F$101,A34),0)) | E34: =IF(A34="","",IFERROR(VLOOKUP(A34,'Instructions'!$F$5:$G$13,2,FALSE),0)) | F34: =IF(A34="","",IF(D34>=100%,"On track",IF(D34>=50%,"In progress","Needs attention"))) | I34: =IF(H34="","",COUNTIF('Study Timetable'!$K$2:$K$101,H34))
B35: =IF(A35="","",COUNTIF('Study Timetable'!$F$2:$F$101,A35)) | C35: =IF(A35="","",IFERROR(SUMIF('Study Timetable'!$F$2:$F$101,A35,'Study Timetable'!$E$2:$E$101),0)) | D35: =IF(A35="","",IFERROR(SUMIF('Study Timetable'!$F$2:$F$101,A35,'Study Timetable'!$M$2:$M$101)/COUNTIF('Study Timetable'!$F$2:$F$101,A35),0)) | E35: =IF(A35="","",IFERROR(VLOOKUP(A35,'Instructions'!$F$5:$G$13,2,FALSE),0)) | F35: =IF(A35="","",IF(D35>=100%,"On track",IF(D35>=50%,"In progress","Needs attention"))) | I35: =IF(H35="","",COUNTIF('Study Timetable'!$K$2:$K$101,H35))
... B101: =IF(A101="","",COUNTIF('Study Timetable'!$F$2:$F$101,A101)) | C101: =IF(A101="","",IFERROR(SUMIF('Study Timetable'!$F$2:$F$101,A101,'Study Timetable'!$E$2:$E$101),0)) | D101: =IF(A101="","",IFERROR(SUMIF('Study Timetable'!$F$2:$F$101,A101,'Study Timetable'!$M$2:$M$101)/COUNTIF('Study Timetable'!$F$2:$F$101,A101),0)) | E101: =IF(A101="","",IFERROR(VLOOKUP(A101,'Instructions'!$F$5:$G$13,2,FALSE),0)) | F101: =IF(A101="","",IF(D101>=100%,"On track",IF(D101>=50%,"In progress","Needs attention"))) | I101: =IF(H101="","",COUNTIF('Study Timetable'!$K$2:$K$101,H101))

Sheet Instructions
A1: Leaving Certificate Study Timetable – Instructions
A3: Guide item | B3: What to do
A4: Add or amend sessions | B4: Use the pale yellow cells in Study Timetable to enter the date, times, subject, level, topic, method, priority, status and notes. The timetable is prepared for 100 sessions. | F4: Subject | G4: Target Hours
A5: Status and completion | B5: Choose Planned, In Progress or Completed. Completion % updates automatically: Planned is 0%, In Progress is 50% and Completed is 100%. | F5: Maths | G5: 2
A6: Filter your timetable | B6: Use the filter arrows in the Study Timetable header row to focus on a subject, date, level, priority or status when organising your week. | F6: Irish | G6: 1.5
A7: Past papers | B7: Build regular past paper sessions into your programme. Mark questions carefully and add short notes on topics that need another attempt. | F7: Biology | G7: 1.5
A8: Active recall | B8: Use flashcards, closed-book quizzes and short explanations from memory. Active recall is more effective than only rereading notes. | F8: English | G8: 1.5
A9: Scheduled revision | B9: Return to difficult topics at planned intervals. Spread revision across the week and review progress in the Dashboard. | F9: French | G9: 1.5
A10: Wellbeing reminder | B10: Balance study with sleep, exercise, meals and rest. Follow guidance from your school, teachers and local study support centre. | F10: History | G10: 1.5
F11: Chemistry | G11: 1.5
F12: Business | G12: 1.5
F13: Geography | G13: 1.5
