Workbook

Sheet Course Comparison
A1: Preference No. | B1: Institution | C1: Course Code | D1: Course Title | E1: NFQ Level | F1: Location | G1: Course Duration (Years) | H1: Indicative 2026 Points (planning estimate) | I1: Points Change | J1: Minimum Subject Requirements Met? | K1: Applicant Points | L1: Points Buffer | M1: Annual Fees (€) | N1: Estimated Annual Living Costs (€) | O1: Total Estimated Annual Cost (€) | P1: Commute / Accommodation | Q1: Course Interest Rating (1–5) | R1: Career Fit Rating (1–5) | S1: Overall Score | T1: Suitable?
A2: 1 | B2: Trinity College Dublin | C2: TR032 | D2: Computer Science | E2: 8 | F2: Dublin | G2: 4 | H2: 566 | I2: 8 | J2: Yes | K2: =IF($A2="","",'Dashboard'!$B$4) | L2: =IF($A2="","",$K2-$H2) | M2: 3500 | N2: 15000 | O2: =IF($A2="","",$M2+$N2) | P2: Student accommodation in Dublin | Q2: 5 | R2: 4 | S2: =IF(OR($A2="",$Q2="",$R2=""),"",ROUND(($Q2*40%)+($R2*40%)+(IF($L2>=0,20%,0)),2)) | T2: =IF($A2="","",IF(AND($J2="Yes",$L2>=0),"Yes","Review"))
A3: 2 | B3: University College Dublin | C3: DN650 | D3: Commerce | E3: 8 | F3: Dublin | G3: 4 | H3: 520 | I3: 3 | J3: Yes | K3: =IF($A3="","",'Dashboard'!$B$4) | L3: =IF($A3="","",$K3-$H3) | M3: 3500 | N3: 14500 | O3: =IF($A3="","",$M3+$N3) | P3: Commute from Kildare | Q3: 4 | R3: 5 | S3: =IF(OR($A3="",$Q3="",$R3=""),"",ROUND(($Q3*40%)+($R3*40%)+(IF($L3>=0,20%,0)),2)) | T3: =IF($A3="","",IF(AND($J3="Yes",$L3>=0),"Yes","Review"))
A4: 3 | B4: University College Cork | C4: CK600 | D4: Engineering | E4: 8 | F4: Cork | G4: 4 | H4: 512 | I4: -5 | J4: Yes | K4: =IF($A4="","",'Dashboard'!$B$4) | L4: =IF($A4="","",$K4-$H4) | M4: 3500 | N4: 11500 | O4: =IF($A4="","",$M4+$N4) | P4: Shared accommodation in Cork | Q4: 4 | R4: 4 | S4: =IF(OR($A4="",$Q4="",$R4=""),"",ROUND(($Q4*40%)+($R4*40%)+(IF($L4>=0,20%,0)),2)) | T4: =IF($A4="","",IF(AND($J4="Yes",$L4>=0),"Yes","Review"))
A5: 4 | B5: University of Galway | C5: GY206 | D5: Business Information Systems | E5: 8 | F5: Galway | G5: 4 | H5: 430 | I5: 6 | J5: Yes | K5: =IF($A5="","",'Dashboard'!$B$4) | L5: =IF($A5="","",$K5-$H5) | M5: 3300 | N5: 10500 | O5: =IF($A5="","",$M5+$N5) | P5: Shared accommodation in Galway | Q5: 4 | R5: 5 | S5: =IF(OR($A5="",$Q5="",$R5=""),"",ROUND(($Q5*40%)+($R5*40%)+(IF($L5>=0,20%,0)),2)) | T5: =IF($A5="","",IF(AND($J5="Yes",$L5>=0),"Yes","Review"))
A6: 5 | B6: University of Limerick | C6: LM050 | D6: Psychology and Sociology | E6: 8 | F6: Limerick | G6: 4 | H6: 402 | I6: -4 | J6: Yes | K6: =IF($A6="","",'Dashboard'!$B$4) | L6: =IF($A6="","",$K6-$H6) | M6: 3200 | N6: 9500 | O6: =IF($A6="","",$M6+$N6) | P6: Campus accommodation in Limerick | Q6: 3 | R6: 4 | S6: =IF(OR($A6="",$Q6="",$R6=""),"",ROUND(($Q6*40%)+($R6*40%)+(IF($L6>=0,20%,0)),2)) | T6: =IF($A6="","",IF(AND($J6="Yes",$L6>=0),"Yes","Review"))
A7: 6 | B7: TU Dublin | C7: TU920 | D7: Digital Marketing | E7: 8 | F7: Dublin | G7: 4 | H7: 380 | I7: 12 | J7: Yes | K7: =IF($A7="","",'Dashboard'!$B$4) | L7: =IF($A7="","",$K7-$H7) | M7: 3000 | N7: 13500 | O7: =IF($A7="","",$M7+$N7) | P7: Commute by rail | Q7: 4 | R7: 4 | S7: =IF(OR($A7="",$Q7="",$R7=""),"",ROUND(($Q7*40%)+($R7*40%)+(IF($L7>=0,20%,0)),2)) | T7: =IF($A7="","",IF(AND($J7="Yes",$L7>=0),"Yes","Review"))
A8: 7 | B8: Munster Technological University | C8: MT571 | D8: Civil Engineering | E8: 8 | F8: Cork | G8: 4 | H8: 430 | I8: 10 | J8: Yes | K8: =IF($A8="","",'Dashboard'!$B$4) | L8: =IF($A8="","",$K8-$H8) | M8: 3000 | N8: 9500 | O8: =IF($A8="","",$M8+$N8) | P8: Family home commute | Q8: 4 | R8: 4 | S8: =IF(OR($A8="",$Q8="",$R8=""),"",ROUND(($Q8*40%)+($R8*40%)+(IF($L8>=0,20%,0)),2)) | T8: =IF($A8="","",IF(AND($J8="Yes",$L8>=0),"Yes","Review"))
A9: 8 | B9: South East Technological University | C9: SE101 | D9: Business | E9: 8 | F9: Waterford | G9: 4 | H9: 350 | I9: 5 | J9: Yes | K9: =IF($A9="","",'Dashboard'!$B$4) | L9: =IF($A9="","",$K9-$H9) | M9: 3000 | N9: 8500 | O9: =IF($A9="","",$M9+$N9) | P9: Accommodation in Waterford | Q9: 3 | R9: 3 | S9: =IF(OR($A9="",$Q9="",$R9=""),"",ROUND(($Q9*40%)+($R9*40%)+(IF($L9>=0,20%,0)),2)) | T9: =IF($A9="","",IF(AND($J9="Yes",$L9>=0),"Yes","Review"))
A10: 9 | B10: Maynooth University | C10: MH201 | D10: Data Science | E10: 8 | F10: Maynooth | G10: 4 | H10: 455 | I10: 7 | J10: Yes | K10: =IF($A10="","",'Dashboard'!$B$4) | L10: =IF($A10="","",$K10-$H10) | M10: 3500 | N10: 11000 | O10: =IF($A10="","",$M10+$N10) | P10: Commute from Dublin | Q10: 5 | R10: 5 | S10: =IF(OR($A10="",$Q10="",$R10=""),"",ROUND(($Q10*40%)+($R10*40%)+(IF($L10>=0,20%,0)),2)) | T10: =IF($A10="","",IF(AND($J10="Yes",$L10>=0),"Yes","Review"))
K11: =IF($A11="","",'Dashboard'!$B$4) | L11: =IF($A11="","",$K11-$H11) | O11: =IF($A11="","",$M11+$N11) | S11: =IF(OR($A11="",$Q11="",$R11=""),"",ROUND(($Q11*40%)+($R11*40%)+(IF($L11>=0,20%,0)),2)) | T11: =IF($A11="","",IF(AND($J11="Yes",$L11>=0),"Yes","Review"))
K12: =IF($A12="","",'Dashboard'!$B$4) | L12: =IF($A12="","",$K12-$H12) | O12: =IF($A12="","",$M12+$N12) | S12: =IF(OR($A12="",$Q12="",$R12=""),"",ROUND(($Q12*40%)+($R12*40%)+(IF($L12>=0,20%,0)),2)) | T12: =IF($A12="","",IF(AND($J12="Yes",$L12>=0),"Yes","Review"))
K13: =IF($A13="","",'Dashboard'!$B$4) | L13: =IF($A13="","",$K13-$H13) | O13: =IF($A13="","",$M13+$N13) | S13: =IF(OR($A13="",$Q13="",$R13=""),"",ROUND(($Q13*40%)+($R13*40%)+(IF($L13>=0,20%,0)),2)) | T13: =IF($A13="","",IF(AND($J13="Yes",$L13>=0),"Yes","Review"))
K14: =IF($A14="","",'Dashboard'!$B$4) | L14: =IF($A14="","",$K14-$H14) | O14: =IF($A14="","",$M14+$N14) | S14: =IF(OR($A14="",$Q14="",$R14=""),"",ROUND(($Q14*40%)+($R14*40%)+(IF($L14>=0,20%,0)),2)) | T14: =IF($A14="","",IF(AND($J14="Yes",$L14>=0),"Yes","Review"))
K15: =IF($A15="","",'Dashboard'!$B$4) | L15: =IF($A15="","",$K15-$H15) | O15: =IF($A15="","",$M15+$N15) | S15: =IF(OR($A15="",$Q15="",$R15=""),"",ROUND(($Q15*40%)+($R15*40%)+(IF($L15>=0,20%,0)),2)) | T15: =IF($A15="","",IF(AND($J15="Yes",$L15>=0),"Yes","Review"))
K16: =IF($A16="","",'Dashboard'!$B$4) | L16: =IF($A16="","",$K16-$H16) | O16: =IF($A16="","",$M16+$N16) | S16: =IF(OR($A16="",$Q16="",$R16=""),"",ROUND(($Q16*40%)+($R16*40%)+(IF($L16>=0,20%,0)),2)) | T16: =IF($A16="","",IF(AND($J16="Yes",$L16>=0),"Yes","Review"))
K17: =IF($A17="","",'Dashboard'!$B$4) | L17: =IF($A17="","",$K17-$H17) | O17: =IF($A17="","",$M17+$N17) | S17: =IF(OR($A17="",$Q17="",$R17=""),"",ROUND(($Q17*40%)+($R17*40%)+(IF($L17>=0,20%,0)),2)) | T17: =IF($A17="","",IF(AND($J17="Yes",$L17>=0),"Yes","Review"))
K18: =IF($A18="","",'Dashboard'!$B$4) | L18: =IF($A18="","",$K18-$H18) | O18: =IF($A18="","",$M18+$N18) | S18: =IF(OR($A18="",$Q18="",$R18=""),"",ROUND(($Q18*40%)+($R18*40%)+(IF($L18>=0,20%,0)),2)) | T18: =IF($A18="","",IF(AND($J18="Yes",$L18>=0),"Yes","Review"))
K19: =IF($A19="","",'Dashboard'!$B$4) | L19: =IF($A19="","",$K19-$H19) | O19: =IF($A19="","",$M19+$N19) | S19: =IF(OR($A19="",$Q19="",$R19=""),"",ROUND(($Q19*40%)+($R19*40%)+(IF($L19>=0,20%,0)),2)) | T19: =IF($A19="","",IF(AND($J19="Yes",$L19>=0),"Yes","Review"))
K20: =IF($A20="","",'Dashboard'!$B$4) | L20: =IF($A20="","",$K20-$H20) | O20: =IF($A20="","",$M20+$N20) | S20: =IF(OR($A20="",$Q20="",$R20=""),"",ROUND(($Q20*40%)+($R20*40%)+(IF($L20>=0,20%,0)),2)) | T20: =IF($A20="","",IF(AND($J20="Yes",$L20>=0),"Yes","Review"))
K21: =IF($A21="","",'Dashboard'!$B$4) | L21: =IF($A21="","",$K21-$H21) | O21: =IF($A21="","",$M21+$N21) | S21: =IF(OR($A21="",$Q21="",$R21=""),"",ROUND(($Q21*40%)+($R21*40%)+(IF($L21>=0,20%,0)),2)) | T21: =IF($A21="","",IF(AND($J21="Yes",$L21>=0),"Yes","Review"))
K22: =IF($A22="","",'Dashboard'!$B$4) | L22: =IF($A22="","",$K22-$H22) | O22: =IF($A22="","",$M22+$N22) | S22: =IF(OR($A22="",$Q22="",$R22=""),"",ROUND(($Q22*40%)+($R22*40%)+(IF($L22>=0,20%,0)),2)) | T22: =IF($A22="","",IF(AND($J22="Yes",$L22>=0),"Yes","Review"))
... K101: =IF($A101="","",'Dashboard'!$B$4) | L101: =IF($A101="","",$K101-$H101) | O101: =IF($A101="","",$M101+$N101) | S101: =IF(OR($A101="",$Q101="",$R101=""),"",ROUND(($Q101*40%)+($R101*40%)+(IF($L101>=0,20%,0)),2)) | T101: =IF($A101="","",IF(AND($J101="Yes",$L101>=0),"Yes","Review"))
A103: Average indicative points | B103: =AVERAGE($H$2:$H$101) | D103: Average annual cost | E103: =AVERAGE($O$2:$O$101) | G103: Number suitable | H103: =COUNTIF($T$2:$T$101,"Yes") | J103: Percentage suitable | K103: =IFERROR(COUNTIF($T$2:$T$101,"Yes")/COUNTA($A$2:$A$101),0) | M103: Lowest total annual cost | N103: =MIN($O$2:$O$101)
A105: Planning estimates only: CAO points, course requirements, fees and living costs can change. Check official CAO and institution information before making decisions.

Sheet Dashboard
A1: CAO Course Choice Comparison Dashboard
A3: Applicant name | B3: Aoife Murphy | D3: Courses compared | E3: =COUNTA('Course Comparison'!$A$2:$A$101) | G3: Suitability | H3: Courses
A4: Applicant points | B4: 500 | D4: Suitable courses | E4: =COUNTIF('Course Comparison'!$T$2:$T$101,"Yes") | G4: Suitable | H4: =COUNTIF('Course Comparison'!$T$2:$T$101,"Yes")
A5: Preferred study location | B5: Dublin | D5: Average course points | E5: =AVERAGE('Course Comparison'!$H$2:$H$101) | G5: Review | H5: =COUNTIF('Course Comparison'!$T$2:$T$101,"Review")
A6: Maximum annual budget (€) | B6: 21000 | D6: Average estimated annual cost | E6: =AVERAGE('Course Comparison'!$O$2:$O$101)
A7: Comparison date | B7: 46276 | D7: Best overall score | E7: =MAX('Course Comparison'!$S$2:$S$101)
D8: Top course by overall score | E8: =IFERROR(VLOOKUP(MAX('Course Comparison'!$S$2:$S$101),'Dashboard'!$X$15:$Z$114,2,FALSE),"")
A9: Points and costs are planning estimates only. Confirm CAO requirements, current points, fees and accommodation costs with official sources. | D9: Top course institution | E9: =IFERROR(VLOOKUP(MAX('Course Comparison'!$S$2:$S$101),'Dashboard'!$X$15:$Z$114,3,FALSE),"")
D10: Top course suitability | E10: =IFERROR(VLOOKUP(MAX('Course Comparison'!$S$2:$S$101),'Course Comparison'!$S$2:$T$101,2,FALSE),"")
D11: Total estimated annual cost | E11: =SUM('Course Comparison'!$O$2:$O$101)
D12: Courses within annual budget | E12: =COUNTIF('Course Comparison'!$O$2:$O$101,"<="&'Dashboard'!$B$6)
D13: Courses in preferred location | E13: =COUNTIF('Course Comparison'!$F$2:$F$101,'Dashboard'!$B$5)
X15: =IF('Course Comparison'!$A$2="","",'Course Comparison'!$S$2) | Y15: =IF('Course Comparison'!$A$2="","",'Course Comparison'!$D$2) | Z15: =IF('Course Comparison'!$A$2="","",'Course Comparison'!$B$2)
X16: =IF('Course Comparison'!$A$3="","",'Course Comparison'!$S$3) | Y16: =IF('Course Comparison'!$A$3="","",'Course Comparison'!$D$3) | Z16: =IF('Course Comparison'!$A$3="","",'Course Comparison'!$B$3)
X17: =IF('Course Comparison'!$A$4="","",'Course Comparison'!$S$4) | Y17: =IF('Course Comparison'!$A$4="","",'Course Comparison'!$D$4) | Z17: =IF('Course Comparison'!$A$4="","",'Course Comparison'!$B$4)
X18: =IF('Course Comparison'!$A$5="","",'Course Comparison'!$S$5) | Y18: =IF('Course Comparison'!$A$5="","",'Course Comparison'!$D$5) | Z18: =IF('Course Comparison'!$A$5="","",'Course Comparison'!$B$5)
X19: =IF('Course Comparison'!$A$6="","",'Course Comparison'!$S$6) | Y19: =IF('Course Comparison'!$A$6="","",'Course Comparison'!$D$6) | Z19: =IF('Course Comparison'!$A$6="","",'Course Comparison'!$B$6)
X20: =IF('Course Comparison'!$A$7="","",'Course Comparison'!$S$7) | Y20: =IF('Course Comparison'!$A$7="","",'Course Comparison'!$D$7) | Z20: =IF('Course Comparison'!$A$7="","",'Course Comparison'!$B$7)
X21: =IF('Course Comparison'!$A$8="","",'Course Comparison'!$S$8) | Y21: =IF('Course Comparison'!$A$8="","",'Course Comparison'!$D$8) | Z21: =IF('Course Comparison'!$A$8="","",'Course Comparison'!$B$8)
X22: =IF('Course Comparison'!$A$9="","",'Course Comparison'!$S$9) | Y22: =IF('Course Comparison'!$A$9="","",'Course Comparison'!$D$9) | Z22: =IF('Course Comparison'!$A$9="","",'Course Comparison'!$B$9)
X23: =IF('Course Comparison'!$A$10="","",'Course Comparison'!$S$10) | Y23: =IF('Course Comparison'!$A$10="","",'Course Comparison'!$D$10) | Z23: =IF('Course Comparison'!$A$10="","",'Course Comparison'!$B$10)
X24: =IF('Course Comparison'!$A$11="","",'Course Comparison'!$S$11) | Y24: =IF('Course Comparison'!$A$11="","",'Course Comparison'!$D$11) | Z24: =IF('Course Comparison'!$A$11="","",'Course Comparison'!$B$11)
X25: =IF('Course Comparison'!$A$12="","",'Course Comparison'!$S$12) | Y25: =IF('Course Comparison'!$A$12="","",'Course Comparison'!$D$12) | Z25: =IF('Course Comparison'!$A$12="","",'Course Comparison'!$B$12)
X26: =IF('Course Comparison'!$A$13="","",'Course Comparison'!$S$13) | Y26: =IF('Course Comparison'!$A$13="","",'Course Comparison'!$D$13) | Z26: =IF('Course Comparison'!$A$13="","",'Course Comparison'!$B$13)
X27: =IF('Course Comparison'!$A$14="","",'Course Comparison'!$S$14) | Y27: =IF('Course Comparison'!$A$14="","",'Course Comparison'!$D$14) | Z27: =IF('Course Comparison'!$A$14="","",'Course Comparison'!$B$14)
X28: =IF('Course Comparison'!$A$15="","",'Course Comparison'!$S$15) | Y28: =IF('Course Comparison'!$A$15="","",'Course Comparison'!$D$15) | Z28: =IF('Course Comparison'!$A$15="","",'Course Comparison'!$B$15)
X29: =IF('Course Comparison'!$A$16="","",'Course Comparison'!$S$16) | Y29: =IF('Course Comparison'!$A$16="","",'Course Comparison'!$D$16) | Z29: =IF('Course Comparison'!$A$16="","",'Course Comparison'!$B$16)
X30: =IF('Course Comparison'!$A$17="","",'Course Comparison'!$S$17) | Y30: =IF('Course Comparison'!$A$17="","",'Course Comparison'!$D$17) | Z30: =IF('Course Comparison'!$A$17="","",'Course Comparison'!$B$17)
X31: =IF('Course Comparison'!$A$18="","",'Course Comparison'!$S$18) | Y31: =IF('Course Comparison'!$A$18="","",'Course Comparison'!$D$18) | Z31: =IF('Course Comparison'!$A$18="","",'Course Comparison'!$B$18)
X32: =IF('Course Comparison'!$A$19="","",'Course Comparison'!$S$19) | Y32: =IF('Course Comparison'!$A$19="","",'Course Comparison'!$D$19) | Z32: =IF('Course Comparison'!$A$19="","",'Course Comparison'!$B$19)
X33: =IF('Course Comparison'!$A$20="","",'Course Comparison'!$S$20) | Y33: =IF('Course Comparison'!$A$20="","",'Course Comparison'!$D$20) | Z33: =IF('Course Comparison'!$A$20="","",'Course Comparison'!$B$20)
X34: =IF('Course Comparison'!$A$21="","",'Course Comparison'!$S$21) | Y34: =IF('Course Comparison'!$A$21="","",'Course Comparison'!$D$21) | Z34: =IF('Course Comparison'!$A$21="","",'Course Comparison'!$B$21)
X35: =IF('Course Comparison'!$A$22="","",'Course Comparison'!$S$22) | Y35: =IF('Course Comparison'!$A$22="","",'Course Comparison'!$D$22) | Z35: =IF('Course Comparison'!$A$22="","",'Course Comparison'!$B$22)
X36: =IF('Course Comparison'!$A$23="","",'Course Comparison'!$S$23) | Y36: =IF('Course Comparison'!$A$23="","",'Course Comparison'!$D$23) | Z36: =IF('Course Comparison'!$A$23="","",'Course Comparison'!$B$23)
X37: =IF('Course Comparison'!$A$24="","",'Course Comparison'!$S$24) | Y37: =IF('Course Comparison'!$A$24="","",'Course Comparison'!$D$24) | Z37: =IF('Course Comparison'!$A$24="","",'Course Comparison'!$B$24)
X38: =IF('Course Comparison'!$A$25="","",'Course Comparison'!$S$25) | Y38: =IF('Course Comparison'!$A$25="","",'Course Comparison'!$D$25) | Z38: =IF('Course Comparison'!$A$25="","",'Course Comparison'!$B$25)
X39: =IF('Course Comparison'!$A$26="","",'Course Comparison'!$S$26) | Y39: =IF('Course Comparison'!$A$26="","",'Course Comparison'!$D$26) | Z39: =IF('Course Comparison'!$A$26="","",'Course Comparison'!$B$26)
X40: =IF('Course Comparison'!$A$27="","",'Course Comparison'!$S$27) | Y40: =IF('Course Comparison'!$A$27="","",'Course Comparison'!$D$27) | Z40: =IF('Course Comparison'!$A$27="","",'Course Comparison'!$B$27)
X41: =IF('Course Comparison'!$A$28="","",'Course Comparison'!$S$28) | Y41: =IF('Course Comparison'!$A$28="","",'Course Comparison'!$D$28) | Z41: =IF('Course Comparison'!$A$28="","",'Course Comparison'!$B$28)
X42: =IF('Course Comparison'!$A$29="","",'Course Comparison'!$S$29) | Y42: =IF('Course Comparison'!$A$29="","",'Course Comparison'!$D$29) | Z42: =IF('Course Comparison'!$A$29="","",'Course Comparison'!$B$29)
...

Sheet Instructions
A1: CAO Course Choice Comparison – Instructions
A3: Section | B3: Guidance
A4: Getting started | B4: Enter the applicant name, applicant points, preferred study location and maximum annual budget on the Dashboard. Applicant points are linked automatically to the Course Comparison sheet.
A5: Course comparison | B5: Use the pale yellow cells in Course Comparison to enter or amend preferences, course details, indicative points, subject requirements, costs, accommodation plans and ratings.
A6: Ratings | B6: Give each course a Course Interest Rating and Career Fit Rating from 1 to 5. The Overall Score combines these ratings with whether the Points Buffer is positive.
A7: Points Buffer and Suitable? | B7: Points Buffer is applicant points less the indicative course points. A positive buffer is shown in green. Suitable? shows Yes only where minimum subject requirements are marked Yes and the points buffer is not negative; Review means further consideration is needed.
A8: NFQ levels | B8: Level 8 choices are honours bachelor degrees, generally offered through CAO Level 8 lists. Level 6 and Level 7 choices are higher certificate and ordinary degree routes and may offer progression opportunities. Check each course route carefully.
A9: Points and requirements | B9: CAO points vary annually and are not guaranteed. Check official CAO and institution course requirements, including restricted courses, portfolios, auditions, interviews and any subject-specific conditions.
A10: Costs and support | B10: Fees and living costs in this workbook are planning estimates only. Check institution fees, accommodation costs, SUSI eligibility and Revenue information where relevant to family financial planning.
A11: Key dates | B11: Verify the current CAO application deadline, late application arrangements and Change of Mind period directly on the official CAO website. Do not rely on previous-year dates.
A12: GDPR and sources | B12: Avoid storing PPS numbers or unnecessary personal data in this workbook. Use official sources including CAO, individual institutions, SUSI and Revenue where relevant.
